BEGIN:VCALENDAR
VERSION:2.0
PRODID:-//Athens County Visitors Bureau - ECPv6.15.20//NONSGML v1.0//EN
CALSCALE:GREGORIAN
METHOD:PUBLISH
X-ORIGINAL-URL:https://athensohio.com
X-WR-CALDESC:Events for Athens County Visitors Bureau
REFRESH-INTERVAL;VALUE=DURATION:PT1H
X-Robots-Tag:noindex
X-PUBLISHED-TTL:PT1H
BEGIN:VTIMEZONE
TZID:America/New_York
BEGIN:DAYLIGHT
TZOFFSETFROM:-0500
TZOFFSETTO:-0400
TZNAME:EDT
DTSTART:20250309T070000
END:DAYLIGHT
BEGIN:STANDARD
TZOFFSETFROM:-0400
TZOFFSETTO:-0500
TZNAME:EST
DTSTART:20251102T060000
END:STANDARD
BEGIN:DAYLIGHT
TZOFFSETFROM:-0500
TZOFFSETTO:-0400
TZNAME:EDT
DTSTART:20260308T070000
END:DAYLIGHT
BEGIN:STANDARD
TZOFFSETFROM:-0400
TZOFFSETTO:-0500
TZNAME:EST
DTSTART:20261101T060000
END:STANDARD
BEGIN:DAYLIGHT
TZOFFSETFROM:-0500
TZOFFSETTO:-0400
TZNAME:EDT
DTSTART:20270314T070000
END:DAYLIGHT
BEGIN:STANDARD
TZOFFSETFROM:-0400
TZOFFSETTO:-0500
TZNAME:EST
DTSTART:20271107T060000
END:STANDARD
END:VTIMEZONE
BEGIN:VEVENT
DTSTART;TZID=America/New_York:20260416T160000
DTEND;TZID=America/New_York:20260421T200000
DTSTAMP:20260420T020107
CREATED:20260330T172117Z
LAST-MODIFIED:20260401T134437Z
UID:10009541-1776355200-1776801600@athensohio.com
SUMMARY:DMTK Thai New Year Celebration & Food Buffet
DESCRIPTION:Celebrate Thai New Year with us at Dr. May’s Thai Kitchen in Athens!\nEach year\, April 14–19\, we bring the community together for a vibrant cultural experience inspired by Thailand’s traditional New Year\, Songkran. \nGuests are invited to take part in meaningful and fun traditions\, including a Buddha Bathing ceremony for good fortune and renewal\, as well as a backyard water celebration (weather permitting)—a joyful way to welcome the new year. \nFrom April 16–19\, enjoy our popular Thai Food Buffet\, featuring a variety of authentic dishes made with fresh\, local ingredients. Buffet hours are:\nLunch: 1–4 PM and Dinner: 4–8 PM. \nTickets are now on sale and highly encouraged to help us prepare enough food for everyone.\nWalk-in guests are welcome\, with a $2 additional charge. \nTickets can be purchased:\nIn person at our storefront (Food only $20\, Food & Dessert/Drink $25\, and Food+Dessert+Drink $29)\nAt the DMTK booth at Athens Farmers Market\nOnline at https://www.drmaysthaikitchen.com\nor https://www.eventbrite.com/e/dmtk-thai-new-year-buffet-2026-tickets-1985994906226?aff=ebdssbdestsearch \nDon’t wait until the last minute—come celebrate\, enjoy\, and welcome the Thai New Year with us!
URL:https://athensohio.com/event/dmtk-thai-new-year-celebration-food-buffet/2026-04-16/
LOCATION:Dr. May’s Thai Kitchen\, 333 E State St\, Athens\, OH\, 45701\, United States
ATTACH;FMTTYPE=image/png:https://athensohio.com/wp-content/uploads/2026/03/DMTK_cropped.png
END:VEVENT
BEGIN:VEVENT
DTSTART;TZID=America/New_York:20260423T190000
DTEND;TZID=America/New_York:20260423T220000
DTSTAMP:20260420T020107
CREATED:20260330T185000Z
LAST-MODIFIED:20260330T185000Z
UID:10009536-1776970800-1776981600@athensohio.com
SUMMARY:Rural Action Earth Ball Fundraiser
DESCRIPTION:We hope you’ll join us on Thursday\, April 23rd from 7PM-10PM at the Zenner House (30 Utah Pl\, Athens\, OH 45701) for an unforgettable evening of dance and celebration at Rural Action’s Earth Ball! Groove to live music by the Eric Ransom Band\, indulge in delicious drinks and hors d’oeuvres\, and join us in honoring our planet. Secure your tickets here. \nAll proceeds will support Rural Action’s mission to grow local businesses and jobs\, restore our environment\, and cultivate the next generation of leaders.
URL:https://athensohio.com/event/rural-action-earth-ball-fundraiser/
LOCATION:Zenner House\, 30 Utah Place\, Athens\, OH\, 45701\, United States
CATEGORIES:Events
ATTACH;FMTTYPE=image/jpeg:https://athensohio.com/wp-content/uploads/2026/03/Earth-Ball-Post-Card-2026-Eventbrite-Banner-1-scaled.jpg
ORGANIZER;CN="Rural Action":MAILTO:madison@ruralaction.org
END:VEVENT
BEGIN:VEVENT
DTSTART;TZID=America/New_York:20260424T160000
DTEND;TZID=America/New_York:20260424T190000
DTSTAMP:20260420T020107
CREATED:20260311T153903Z
LAST-MODIFIED:20260311T153903Z
UID:10009146-1777046400-1777057200@athensohio.com
SUMMARY:SEE ● TOUCH ● BUILD Exhibition Opening Reception
DESCRIPTION:SEE ● TOUCH ● BUILD transforms the gallery into a space of active exploration where looking becomes doing. The exhibition brings together artworks that shift meaning through participation—works that respond to touch\, movement\, sound\, or direct interaction. Designed for visitors of all ages\, the exhibition invites curiosity\, experimentation\, and hands-on engagement.
URL:https://athensohio.com/event/see-%e2%97%8f-touch-%e2%97%8f-build-exhibition-opening-reception/
LOCATION:Dairy Barn Arts Center\, 8000 Dairy Lane\, Athens\, OH\, 45701\, United States
CATEGORIES:Events
ATTACH;FMTTYPE=image/png:https://athensohio.com/wp-content/uploads/2026/03/4.png
ORGANIZER;CN="Exhibition Director - The Dairy Barn Arts Center":MAILTO:keri@dairybarn.org
END:VEVENT
BEGIN:VEVENT
DTSTART;TZID=America/New_York:20260425T090000
DTEND;TZID=America/New_York:20260425T120000
DTSTAMP:20260420T020107
CREATED:20221102T185707Z
LAST-MODIFIED:20230328T175645Z
UID:10001738-1777107600-1777118400@athensohio.com
SUMMARY:Athens Art Guild Art Market
DESCRIPTION:Shop locally handcrafted juried arts and crafts at the Art Market at the Athens Farmers Market on Saturdays from 9:00 AM to Noon\, located at the Athens Community Center (701 E. State Street\, Athens\, Ohio).
URL:https://athensohio.com/event/athens-art-guild-art-market/2026-04-25/
LOCATION:Athens Community Center\, 701 E State Street\, Athens\, OH\, 45701\, United States
ORGANIZER;CN="Athens Art Guild":MAILTO:athensartguild@gmail.com
END:VEVENT
BEGIN:VEVENT
DTSTART;TZID=America/New_York:20260501T170000
DTEND;TZID=America/New_York:20260503T120000
DTSTAMP:20260420T020107
CREATED:20260115T163611Z
LAST-MODIFIED:20260115T163611Z
UID:10009107-1777654800-1777809600@athensohio.com
SUMMARY:Birds in the Hills\, Sponsored by The Ohio Ornithological Society
DESCRIPTION:Come join us on Friday\, May 1\, 2026\, at 5 p.m.\, at the beautiful Camp Oty’Okwa in Hocking Hills for a fun-filled weekend celebrating the natural world and the spring migration. \nBirds in the Hills welcomes individuals of diverse ages and backgrounds\, providing a chance to explore the biodiversity of the Appalachian region through interactive nature activities led by local guides and naturalists. In addition to a variety of birding excursions\, the festival provides family-oriented programming\, food\, camping\, interactive workshops\, live music\, nature inspired vendors\, an off-the-charts silent auction\, and more! \nWhether you’re a seasoned birder or just starting out\, there’s something for everyone at this family-friendly festival. Grab your binoculars and get ready to immerse yourself in nature at the Birds in the Hills Festival. \nBird species that attendees may encounter include various warblers such as worm-eating\, hooded\, cerulean\, black-throated green\, prothonotary\, blue-winged\, magnolia\, and blackburnian. Other notable species include the hermit thrush\, rose-breasted grosbeak\, and wood thrush. \n*Ticket prices do not include meals. Meal tickets are available as an add on option and must be purchased two weeks in advance of the festival. No meal tickets will be available after April 21st. Participants are welcome to bring their own food and alcoholic beverages into the festival. Glass is not permitted. \nDonate: Your contribution to the 2026 Birds in the Hills Festival will help Appalachian Understories continue its mission to preserve local knowledge\, create a sense of place\, benefit human health\, and bring revenue into our region. Click here to donate today.
URL:https://athensohio.com/event/birds-in-the-hills-sponsored-by-the-ohio-ornithological-society/
LOCATION:Camp Oty’okwa\, 24799 Purcell Road\, South Bloomingville\, Ohio\, 43152
CATEGORIES:Events
ATTACH;FMTTYPE=image/jpeg:https://athensohio.com/wp-content/uploads/2026/01/IMG_9737-scaled.jpg
ORGANIZER;CN="Appalachian Understories":MAILTO:Appalachianunderstories@ruralaction.org
END:VEVENT
BEGIN:VEVENT
DTSTART;TZID=America/New_York:20260501T173000
DTEND;TZID=America/New_York:20260501T193000
DTSTAMP:20260420T020107
CREATED:20260413T174923Z
LAST-MODIFIED:20260413T174923Z
UID:10009556-1777656600-1777663800@athensohio.com
SUMMARY:May Guided Hike: Signs of Spring -COSI Science Festival Community Event
DESCRIPTION:Join this free guided hike on Wayne National Forest’s Baileys Trail System to look for signs of spring. \nCome along for an in-person adventure as we discover the blooming wonders and fresh signs of spring on this guided hike led by a National Association for Interpretation Certified Interpretive Guide. Meeting at Chauncey-Dover Trailhead Park before carvanning to another site. This is the last opportunity to use the bathroom facilities. The group will wait at the shelter house until 545 before departing. This hike will not take the full two hours\, but it leaves a buffer window. May’s hike will be on Bullfrog Loop\, which is an easy trail with gently rolling dips and easy turns on a 1.5 miles loop that is Natural Tread 36-48″ wide. \nThe guide is Wilderness First Responder-certified and carries a first-aid kit. Hike at your own risk.
URL:https://athensohio.com/event/may-guided-hike-signs-of-spring-cosi-science-festival-community-event/
LOCATION:Baileys Trail System\, 8389 W Bailey Rd\, Millfeild\, OH\, 45761\, United States
CATEGORIES:Events
ATTACH;FMTTYPE=image/png:https://athensohio.com/wp-content/uploads/2026/04/CSF-Graphics-for-partners-2026_1080-x-1920_MAY-1-Story-scaled.png
ORGANIZER;CN="Outdoor Recreation Council of Appalachia (ORCA)":MAILTO:info@orcaohio.com
END:VEVENT
BEGIN:VEVENT
DTSTART;TZID=America/New_York:20260501T190000
DTEND;TZID=America/New_York:20260501T210000
DTSTAMP:20260420T020107
CREATED:20260407T175515Z
LAST-MODIFIED:20260407T175515Z
UID:10009548-1777662000-1777669200@athensohio.com
SUMMARY:Tony Xenos - History in Resonance: A School Auditorium
DESCRIPTION:History in Resonance is a multimedia performance by Tony Xenos exploring the spirit of place through music\, stories\, and live visual art. Blending folktronica with personal narrative\, this performance traces the history of the Athens Middle School Auditorium\, revealing the stories embedded in a space many in the community know—yet have never experienced like this. \nTony’s performance features Andrew Lampela (Weedghost\, Dead Winds of Summer\, Swage) on guitar\, visual art by Dana Dieterle\, and audio and video by Jarod Koenig. \nFREE and open to the community. Free parking available in upper lot behind the Athens Middle School. Children under 16 must be accompanied by an adult. Supported by the Andrew Jackson Davison Club of Athens City Schools.
URL:https://athensohio.com/event/tony-xenos-history-in-resonance-a-school-auditorium/
LOCATION:Athens Middle School\, 51-55 West State Street\, Athens\, 45701\, United States
CATEGORIES:Events
ATTACH;FMTTYPE=image/jpeg:https://athensohio.com/wp-content/uploads/2026/04/HiRFlyer-scaled.jpg
ORGANIZER;CN="Tony Xenos":MAILTO:plusthreex@gmail.com
END:VEVENT
BEGIN:VEVENT
DTSTART;TZID=America/New_York:20260501T190000
DTEND;TZID=America/New_York:20260501T220000
DTSTAMP:20260420T020107
CREATED:20260205T202045Z
LAST-MODIFIED:20260205T202045Z
UID:10009126-1777662000-1777672800@athensohio.com
SUMMARY:Moonlight Paddle on the Hocking River
DESCRIPTION:🌙✨Experience the magic of the Hocking River after dark with Adventure Pro Outdoors first-ever Moonlight Paddle in Nelsonville\, Ohio! ✨🌙 This relaxing nighttime paddle offers a unique way to enjoy the river under the full moon and the stars. This guided experience is perfect for families\, friends\, or a fun night out\, and no prior experience is needed. With only 40 spots available\, guests will enjoy a peaceful\, uncrowded paddle as the water comes alive at night.\n💡Glow sticks are encouraged to light up the river — available for purchase in-store or feel free to bring your own.\n🚣‍♂️ Only 40 spots available\, so don’t wait! Grab your spot and paddle under the stars with Adventure Pro Outdoors.\nThis event will be boats only!\nCheck-in is from 7pm-7:30pm\nBoats will depart at 8pm\n**Weather and river conditions may post-pone event
URL:https://athensohio.com/event/moonlight-paddle-on-the-hocking-river/
LOCATION:Adventure Pro Outdoors 1299 E Canal St\, Nelsonville Ohio\, 1299 E. Canal St\, Nelsonville\, OH\, 45764\, United States
CATEGORIES:Events
ATTACH;FMTTYPE=image/png:https://athensohio.com/wp-content/uploads/2026/02/Moonlight-paddle.png
END:VEVENT
BEGIN:VEVENT
DTSTART;TZID=America/New_York:20260502T130000
DTEND;TZID=America/New_York:20260502T150000
DTSTAMP:20260420T020107
CREATED:20260402T144259Z
LAST-MODIFIED:20260402T144259Z
UID:10009545-1777726800-1777734000@athensohio.com
SUMMARY:Field Grafting Fruit and Nut Trees
DESCRIPTION:Join us to graft fruit and nut trees in the field with Agroforestry Practitioner Weston Lombard from Rising Appalachia!\nLearn to transform existing trees into more productive cultivars through the art of grafting. \nThis hands-on workshop covers selecting scion wood\, making clean cuts\, and securing strong unions so trees can thrive for years. Each participant will take home a stick of scion wood to graft themselves. \nBy registering below\, you’ll join neighbors in practicing practical skills that support local food\, healthy land\, and Appalachian traditions. All experience levels are welcome—come ready to learn\, share\, and spend time outdoors.
URL:https://athensohio.com/event/field-grafting-fruit-and-nut-trees/
LOCATION:Solid Ground Farm\, 13262 Liars Corner Road\, Millfield\, OH\, 45761\, United States
CATEGORIES:Events
ATTACH;FMTTYPE=image/jpeg:https://athensohio.com/wp-content/uploads/2026/04/Grafting-Apple-Trees.jpg
ORGANIZER;CN="Rising Appalachia":MAILTO:rina@risingappalachia.org
END:VEVENT
BEGIN:VEVENT
DTSTART;TZID=America/New_York:20260509T090000
DTEND;TZID=America/New_York:20260509T140000
DTSTAMP:20260420T020107
CREATED:20260316T130540Z
LAST-MODIFIED:20260316T130540Z
UID:10009150-1778317200-1778335200@athensohio.com
SUMMARY:Deer Resistant and Native Plant Sale
DESCRIPTION:Our Athens\, Ohio plant sale focuses on offering native and deer resistant perennials\, shrubs and trees. 1000+ individual plants in 150+ types! \nPricing: Perennials: $4.00 – $8.00 Trees and shrubs: $6.00 – $12.00\nSpecialty items maybe priced individually \nWe are committed to keeping costs low so that our friends and neighbors have access to high quality and affordable plants. \nIn April look for our plant list and more information on our website www.nodeerplantsale.com. and be sure to follow us on social media. \nHosted by Roxanne Malè-Brune and Lindsey Siegrist. We are two ladies with a plant problem who have been hosting a Deer Resistant and Native Plant Sale in one form or another since 2014.
URL:https://athensohio.com/event/deer-resistant-and-native-plant-sale/2026-05-09/
LOCATION:171 Longview Heights Road\, Athens\, OH 45701\, 171 Longview Heights Road\, Athens\, OH\, 45701\, United States
ATTACH;FMTTYPE=image/jpeg:https://athensohio.com/wp-content/uploads/2026/03/2026-Deer-Resistant-Plant-Sale-scaled.jpg
ORGANIZER;CN="Deer Resistant Plant Sale":MAILTO:NoDeerPlantSale@gmail.com
END:VEVENT
BEGIN:VEVENT
DTSTART;TZID=America/New_York:20260516T100000
DTEND;TZID=America/New_York:20260516T120000
DTSTAMP:20260420T020107
CREATED:20260317T193633Z
LAST-MODIFIED:20260317T193633Z
UID:10009519-1778925600-1778932800@athensohio.com
SUMMARY:Great Ohio Climate March Send Off
DESCRIPTION:It is time for the Great Ohio Climate March! The send off will be in Athens\, Ohio on Saturday\, May 16 at 10:00 am. Join the rally at the Athens Solar Array behind 15 East Park Drive. \nFrom May 16 through May 28\, folks will march over 100 miles from Chesterhill to Salt Fork State Park to the State House in Columbus. There they will advocate for our lawmakers to make changes in policy that will promote a just\, healthy\, sustainable future for us all. \nGreat Ohio Climate March is open to everyone who cares about having a beautiful\, clean environment here in Ohio. Find out more and sign up to join the march at greatohioclimatemarch.org. The registration deadline is April 16.
URL:https://athensohio.com/event/great-ohio-climate-march-send-off/
LOCATION:Athens Solar Array\, 15 East Park Drive\, Athens\, 45701\, United States
CATEGORIES:Events
ATTACH;FMTTYPE=image/jpeg:https://athensohio.com/wp-content/uploads/2026/03/Great-Ohio-Climate-March-Flyer.jpg
ORGANIZER;CN="Third Act Ohio":MAILTO:ohio@thirdact.org
END:VEVENT
BEGIN:VEVENT
DTSTART;TZID=America/New_York:20260603T180000
DTEND;TZID=America/New_York:20260607T200000
DTSTAMP:20260420T020107
CREATED:20260401T133022Z
LAST-MODIFIED:20260401T133022Z
UID:10009538-1780509600-1780862400@athensohio.com
SUMMARY:Athens Pride Fest 2026
DESCRIPTION:The one and only-\nAthens Pride Fest 2026!\nJune 3rd through the 7th. \nBringing the Community together\, for the Biggest & Brightest Event of the Year! \nThe SEO Rainbow Alliance- proudly provides the Beautiful town of Athens\,OH with an exciting week- of unmatched Fun and Entertainment\, for Everyone! \nIncluding our Ever-Growing Pride Parade and Street Fair\, happening June 6th\, this year!\nAs well as our Dance Night at The Union\, and our very popular Drag Shows! Among several other fun activities! \nEach year we bring something new to the scene; and we are very excited to announce our full schedule soon- including our very first\, COLOR RUN! \nSharing space with folks from all walks of life\, Athens Pride Fest is all about Unity\, Diversity and Love for all.\nWe aim to bring the town of Athens\, and those who travel far and wide\, the Full and Inclusive Experience! \nJoin us June 3rd-7th\, for our annual Athens Pride Fest-2026!\nIt’s an Event you won’t forget!
URL:https://athensohio.com/event/athens-pride-fest-2026/
LOCATION:Athens Court Street\, Court Street\, Athens\, 45701\, United States
ATTACH;FMTTYPE=image/jpeg:https://athensohio.com/wp-content/uploads/2026/03/inbound4346061568871726080.jpg
ORGANIZER;CN="Southeastern Ohio Rainbow Alliance":MAILTO:Board@seorainbow.org
END:VEVENT
BEGIN:VEVENT
DTSTART;VALUE=DATE:20260604
DTEND;VALUE=DATE:20260608
DTSTAMP:20260420T020107
CREATED:20260204T194959Z
LAST-MODIFIED:20260204T194959Z
UID:10009122-1780531200-1780876799@athensohio.com
SUMMARY:4th Annual Starbrick Music Festival Nelsonville Ohio
DESCRIPTION:Our 4th Annual STARBRICK Music Festival at Hocking College is blend of Classic 70/80/90s Rock and music that will take you back with the best hits of the ages! AND\, introducing our first Battle of the Bands! \nAll Proceeds Benefit the Chris Roell TBI Foundation.
URL:https://athensohio.com/event/4th-annual-starbrick-music-festival-nelsonville-ohio/
LOCATION:Hocking College\, 3301 Hocking Parkway\, Nelsonville\, OH\, 45764\, United States
CATEGORIES:Events
ATTACH;FMTTYPE=image/png:https://athensohio.com/wp-content/uploads/2026/02/SMF-26-Save-The-Date-5.png
ORGANIZER;CN="The Chris Roell TBI Foundation":MAILTO:starbrickmusicfestival@gmail.com
END:VEVENT
BEGIN:VEVENT
DTSTART;TZID=America/New_York:20260606T110000
DTEND;TZID=America/New_York:20260606T160000
DTSTAMP:20260420T020107
CREATED:20260402T144402Z
LAST-MODIFIED:20260402T144402Z
UID:10009546-1780743600-1780761600@athensohio.com
SUMMARY:Mulberry Fest!
DESCRIPTION:Have you ever enjoyed a handful of perfectly balanced\, sweet\, tart\, juicy Mulberries? 🍇\nCome discover this often-overlooked\, delicious\, and nutritious Tree! From its nourishing Leaves to its mouthwatering Fruit\, Mulberries have so much to offer. \nJoin us at our 1st Annual Mulberry Fest and leave inspired to start your own backyard orchard!🍇 \nCheck out the tentative schedule below:\n11:00-11:15 – Welcome!\n11:15-11:30 – Introduction with Lawrence Greene\n11:30-12:15 – Orchard tour and Berry picking with Weston\n12:15-12:30 – Transition down the hill\n12:30-1:30 – Farm to Table Lunch at the Pavilion\n1:30-3:30 – Learn about the Flora\, Fauna\, and Fungi with Ethnobiologist Marc Williams on the Medicine Trail! Learn from staff about ongoing projects\, connecting deeply with the Land and Inhabitants\n3:30-4:00 – Iced tea and Honey tasting\, ice cream samples at Pavillion. \nPost-event Dance Party:\n4:30-5:30 — Live Music with MoJoGreene\n5:30-6:30 — Music continues with DJ Kate \nLight snacks will be provided during the dance party. Donations welcomed\, but not required \nYour registration helps Rising Appalachia keep offering outdoor education\, cultural traditions\, and creative play across our hills and hollers. Bring your family\, meet your neighbors\, and spend time together in the shade of the Trees. 🌳
URL:https://athensohio.com/event/mulberry-fest/
LOCATION:Solid Ground Farm\, 13262 Liars Corner Road\, Millfield\, OH\, 45761\, United States
CATEGORIES:Events
ATTACH;FMTTYPE=image/jpeg:https://athensohio.com/wp-content/uploads/2026/04/mulberries2.jpg
ORGANIZER;CN="Rising Appalachia":MAILTO:rina@risingappalachia.org
END:VEVENT
BEGIN:VEVENT
DTSTART;TZID=America/New_York:20260613T120000
DTEND;TZID=America/New_York:20260613T220000
DTSTAMP:20260420T020107
CREATED:20260327T140928Z
LAST-MODIFIED:20260327T140928Z
UID:10009524-1781352000-1781388000@athensohio.com
SUMMARY:Boogie On The Bricks
DESCRIPTION:Boogie On The Bricks is a FREE community music festival on Court Street in Athens\, Ohio! Join us on June 13\, 2026\, from Noon until 10 pm. This family-friendly festival will feature live music\, an artisan marketplace\, community organizations\, food trucks\, DORA beverages\, and a KID ZONE.
URL:https://athensohio.com/event/boogie-on-the-bricks/
LOCATION:Court Street
CATEGORIES:Events
ATTACH;FMTTYPE=image/png:https://athensohio.com/wp-content/uploads/2026/03/20240530_boogie_logo_1024.png
ORGANIZER;CN="Boogie On The Bricks":MAILTO:info@boogieonthebricks.com
END:VEVENT
BEGIN:VEVENT
DTSTART;TZID=America/New_York:20260618T000000
DTEND;TZID=America/New_York:20260620T235900
DTSTAMP:20260420T020107
CREATED:20260327T140751Z
LAST-MODIFIED:20260327T140751Z
UID:10009528-1781740800-1781999940@athensohio.com
SUMMARY:Nelsonville Music Festival 2026
DESCRIPTION:Set in the beautiful rolling hills of Southeast Ohio and surrounded by the Wayne National Forest\, the laid-back weekend offers a carefully curated\, diverse lineup of national\, regional\, and local acts in an intimate setting.\nNMF constantly strives to have a positive impact on our surrounding community and environment. All festival proceeds support affordable\, accessible\, year-round Arts Education programs at Stuart’s Opera House. This means every ticket purchased helps enrich the lives of people of all ages in our region by opening the door to transformative cultural experiences. Admission is free to kids 12 and under. We partner with Rural Action’s Zero Waste Event Productions to divert 90% or more of the waste created at the festival from the landfill with recycling and composting.\nThe AV Club and Ohio Magazine have named NMF as the “Best Music Festival in Ohio\,” and Time Out Chicago has called it “one of the Midwest’s best festivals.” Past performers have included Death Cab for Cutie\, Mavis Staples\, Tyler Childers\, The Breeders\, Wilco\, The Flaming Lips\, Willie Nelson\, George Clinton & Parliament Funkadelic\, Ween\, Loretta Lynn\, Gillian Welch\, John Prine\, The Avett Brothers\, They Might Be Giants\, The Decemberists\, Randy Newman\, Merle Haggard\, Iron & Wine\, Yo La Tengo\, George Jones\, Emmylou Harris\, Courtney Barnett\, and many more.\nThe Nelsonville Music Festival is a fundraiser for and production of Stuart’s Opera House\, a historic\, non-profit theater located in Nelsonville that features over 75 events a year including live music\, theater\, educational programming\, and more. You can find out more about the Nelsonville Music Festival at nelsonvillefest.org.
URL:https://athensohio.com/event/nelsonville-music-festival-2026/
LOCATION:Snow Fork Event Center\, 5685 Happy Hollow Road\, Nelsonville\, 45764\, United States
CATEGORIES:Events
ATTACH;FMTTYPE=image/jpeg:https://athensohio.com/wp-content/uploads/2026/03/4A6A5156x-scaled.jpg
ORGANIZER;CN="Stuart's Opera House":MAILTO:info@stuartsoperahouse.org
END:VEVENT
BEGIN:VEVENT
DTSTART;TZID=America/New_York:20260703T090000
DTEND;TZID=America/New_York:20260705T160000
DTSTAMP:20260420T020107
CREATED:20260205T202009Z
LAST-MODIFIED:20260205T202009Z
UID:10009127-1783069200-1783267200@athensohio.com
SUMMARY:FLOATING ON THE 4TH on the Hocking River!
DESCRIPTION:🎆🌊 FLOATING ON THE FOURTH 🌊🎆\nAdventure Pro Outdoors’ FIRST-EVER patriotic float — and we’re going BIG! The 4th of July falls on a WEEKEND\, so that means we’re floating ALL. WEEKEND. LONG. 🙌\nJoin us on the scenic Hocking River for tubing\, kayaking\, and canoeing with nonstop summer vibes.\n🌊 THE FLOAT\n• 3-mile lazy river float available for tubers\, and boaters\n• 6-mile scenic river trip available for boaters (canoes & kayaks)\n• Or bring your own tube\, or boat for this adventure!\n• Typically 2–5 hours depending on river conditions\n• Relax\, float\, stop on sandbanks\, bring a cooler carrier if you want\n• Tubes\, kayaks\, and canoes available\n• Over 400 premium Tube Pro tubes — or bring your own (we’ll inflate it!)\n🕘 First launch: 9:00 AM\n🕓 Last launch: 4:00 PM\n⏰ Peak time: Saturday\, 10 AM – 2 PM (but availability all weekend!)\n🎶Music\, freedom\, sunshine\, and floating — this is how America celebrates.\nTag your float crew 🛟🇺🇸 and don’t miss Floating on the Fourth in Hocking Hills!
URL:https://athensohio.com/event/floating-on-the-4th-on-the-hocking-river/
LOCATION:Adventure Pro Outdoors 1299 E Canal St\, Nelsonville Ohio\, 1299 E. Canal St\, Nelsonville\, OH\, 45764\, United States
CATEGORIES:Events
ATTACH;FMTTYPE=image/png:https://athensohio.com/wp-content/uploads/2026/02/Adventure-Pro-Outdoors-Floating-on-the-4th.png
END:VEVENT
BEGIN:VEVENT
DTSTART;VALUE=DATE:20260725
DTEND;VALUE=DATE:20260726
DTSTAMP:20260420T020107
CREATED:20260209T140825Z
LAST-MODIFIED:20260209T140825Z
UID:10009131-1784937600-1785023999@athensohio.com
SUMMARY:Athens Gravel Challenge
DESCRIPTION:Athens Gravel Challenge\, July 25\, 2026 (https://www.bikereg.com/agc2026). \nThere are three routes: 22\, 37\, and 54 miles. \nEvery participant receives a t-shirt and pint glass with the Gravel Tortoise design (this unique woodblock print was created by JustAJar Design Press).
URL:https://athensohio.com/event/athens-gravel-challenge/
CATEGORIES:Events
ATTACH;FMTTYPE=image/png:https://athensohio.com/wp-content/uploads/2026/02/Gravel-Challenge-Flyer-2026.png
END:VEVENT
BEGIN:VEVENT
DTSTART;VALUE=DATE:20260920
DTEND;VALUE=DATE:20260922
DTSTAMP:20260420T020107
CREATED:20260128T164200Z
LAST-MODIFIED:20260128T164200Z
UID:10009116-1789862400-1790035199@athensohio.com
SUMMARY:GNCC John Penton
DESCRIPTION:Come out and watch the top off-road ATV and motorcycle racers compete at the John Penton GNCC\, one of the longest-running events in Southern Ohio\, held at Sunday Creek Raceway! Named after John Penton\, the American off-road pioneer who brought KTM motorcycles to the U.S.\, this race challenges riders with the unpredictable Ohio weather—either bone-dry and dusty or slick with sticky clay. The fast\, flowing trails mix with fresh\, tight sections\, and while hills and mud bogs aren’t extreme\, the course can get rough as the race wears on. Riders of all skill levels can compete\, making it a true test of endurance\, skill\, and toughness.
URL:https://athensohio.com/event/gncc-john-penton/
LOCATION:Sunday Creek Raceway\, 17270 South Wemer Road\, Millfield\, OH\, 45761\, United States
CATEGORIES:Events
ATTACH;FMTTYPE=image/png:https://athensohio.com/wp-content/uploads/2026/01/Screenshot-2026-01-28-at-11.24.33-AM.png
ORGANIZER;CN="GNCC Racing":MAILTO:bolton@gnccracing.com
END:VEVENT
END:VCALENDAR